BEGIN:VCALENDAR
VERSION:2.0
PRODID:-//Celestia - Hyperion - Final Fantasy XIV - ECPv5.16.4//NONSGML v1.0//EN
CALSCALE:GREGORIAN
METHOD:PUBLISH
X-WR-CALNAME:Celestia - Hyperion - Final Fantasy XIV
X-ORIGINAL-URL:https://celestiaxiv.com
X-WR-CALDESC:Events for Celestia - Hyperion - Final Fantasy XIV
BEGIN:VTIMEZONE
TZID:UTC
BEGIN:STANDARD
TZOFFSETFROM:+0000
TZOFFSETTO:+0000
TZNAME:UTC
DTSTART:20170101T000000
END:STANDARD
END:VTIMEZONE
BEGIN:VEVENT
DTSTART;TZID=UTC:20171010T210000
DTEND;TZID=UTC:20171010T220000
DTSTAMP:20260425T144658
CREATED:20170918T215033Z
LAST-MODIFIED:20170930T012525Z
UID:17349-1507669200-1507672800@celestiaxiv.com
SUMMARY:Legend of Invalice FC 24-Man Raid Run
DESCRIPTION:To sign up for the weekly run use the comment section. Post what job(s) you will be running with. We will form teams and leader leaders will invite players beginning 5 minutes before the run.
URL:https://celestiaxiv.com/event/fc-24-man-alliance-raid-run/
LOCATION:FC House\, Ward 17\, Plot 30\, Shirogane
CATEGORIES:24-Man,Raid
END:VEVENT
END:VCALENDAR