BEGIN:VCALENDAR
VERSION:2.0
PRODID:-//Celestia - Hyperion - Final Fantasy XIV - ECPv5.16.4//NONSGML v1.0//EN
CALSCALE:GREGORIAN
METHOD:PUBLISH
X-WR-CALNAME:Celestia - Hyperion - Final Fantasy XIV
X-ORIGINAL-URL:https://celestiaxiv.com
X-WR-CALDESC:Events for Celestia - Hyperion - Final Fantasy XIV
BEGIN:VTIMEZONE
TZID:America/Denver
BEGIN:DAYLIGHT
TZOFFSETFROM:-0700
TZOFFSETTO:-0600
TZNAME:MDT
DTSTART:20170312T090000
END:DAYLIGHT
BEGIN:STANDARD
TZOFFSETFROM:-0600
TZOFFSETTO:-0700
TZNAME:MST
DTSTART:20171105T080000
END:STANDARD
END:VTIMEZONE
BEGIN:VEVENT
DTSTART;TZID=America/Denver:20170922T180000
DTEND;TZID=America/Denver:20170922T220000
DTSTAMP:20260425T190741
CREATED:20170819T002952Z
LAST-MODIFIED:20170819T003015Z
UID:13315-1506103200-1506117600@celestiaxiv.com
SUMMARY:Primal Fridays
DESCRIPTION:Do you need a Primal Clear? Want to learn Titan or Thordan EX? \nAdd a comment below with the content you need and we’ll help you get your clear.
URL:https://celestiaxiv.com/event/primal-fridays-2-2-2-3-2-2-2/
LOCATION:FC House\, Ward 17\, Plot 30\, Shirogane
CATEGORIES:Primal Fridays
END:VEVENT
END:VCALENDAR