BEGIN:VCALENDAR
VERSION:2.0
PRODID:-//Celestia - Hyperion - Final Fantasy XIV - ECPv5.16.4//NONSGML v1.0//EN
CALSCALE:GREGORIAN
METHOD:PUBLISH
X-WR-CALNAME:Celestia - Hyperion - Final Fantasy XIV
X-ORIGINAL-URL:https://celestiaxiv.com
X-WR-CALDESC:Events for Celestia - Hyperion - Final Fantasy XIV
BEGIN:VTIMEZONE
TZID:America/Halifax
BEGIN:DAYLIGHT
TZOFFSETFROM:-0400
TZOFFSETTO:-0300
TZNAME:ADT
DTSTART:20180311T060000
END:DAYLIGHT
BEGIN:STANDARD
TZOFFSETFROM:-0300
TZOFFSETTO:-0400
TZNAME:AST
DTSTART:20181104T050000
END:STANDARD
END:VTIMEZONE
BEGIN:VEVENT
DTSTART;TZID=America/Halifax:20180522T210000
DTEND;TZID=America/Halifax:20180522T230000
DTSTAMP:20260425T144050
CREATED:20180517T024446Z
LAST-MODIFIED:20180522T172746Z
UID:81661-1527022800-1527030000@celestiaxiv.com
SUMMARY:Return to Ivalice - Patch 4.3's new 24 man
DESCRIPTION:The FC will be running the brand new 24 man together\, most of us will be going blind so don’t be afraid to die. If you’re ready for a better crossover event than Infinity War\, then you better sign up quick! \nTime: 5/22 starting at 9 PM. \n(Please ensure you have the 24-man raid unlock before the starting time\, we will start gathering 25 minutes before the event start)
URL:https://celestiaxiv.com/event/return-to-ivalice-patch-4-3s-new-24-man/
CATEGORIES:2 - The Ridorana Lighthouse,24-Man,Return to Ivalice
END:VEVENT
END:VCALENDAR