BEGIN:VCALENDAR
VERSION:2.0
PRODID:-//Celestia - Hyperion - Final Fantasy XIV - ECPv5.16.4//NONSGML v1.0//EN
CALSCALE:GREGORIAN
METHOD:PUBLISH
X-WR-CALNAME:Celestia - Hyperion - Final Fantasy XIV
X-ORIGINAL-URL:https://celestiaxiv.com
X-WR-CALDESC:Events for Celestia - Hyperion - Final Fantasy XIV
BEGIN:VTIMEZONE
TZID:America/Denver
BEGIN:DAYLIGHT
TZOFFSETFROM:-0700
TZOFFSETTO:-0600
TZNAME:MDT
DTSTART:20180311T090000
END:DAYLIGHT
BEGIN:STANDARD
TZOFFSETFROM:-0600
TZOFFSETTO:-0700
TZNAME:MST
DTSTART:20181104T080000
END:STANDARD
END:VTIMEZONE
BEGIN:VEVENT
DTSTART;TZID=America/Denver:20180314T190000
DTEND;TZID=America/Denver:20180314T210000
DTSTAMP:20260425T160439
CREATED:20180313T193645Z
LAST-MODIFIED:20180313T193645Z
UID:63775-1521054000-1521061200@celestiaxiv.com
SUMMARY:Test Event
DESCRIPTION:
URL:https://celestiaxiv.com/event/test-event/
CATEGORIES:24-Man,Raid
END:VEVENT
END:VCALENDAR